BEGIN:VCALENDAR
VERSION:2.0
PRODID:-//Farnosť Červeník - ECPv6.15.10//NONSGML v1.0//EN
CALSCALE:GREGORIAN
METHOD:PUBLISH
X-WR-CALNAME:Farnosť Červeník
X-ORIGINAL-URL:https://cervenik.fara.sk
X-WR-CALDESC:Udalosti pre Farnosť Červeník
REFRESH-INTERVAL;VALUE=DURATION:PT1H
X-Robots-Tag:noindex
X-PUBLISHED-TTL:PT1H
BEGIN:VTIMEZONE
TZID:Europe/Bratislava
BEGIN:DAYLIGHT
TZOFFSETFROM:+0100
TZOFFSETTO:+0200
TZNAME:CEST
DTSTART:20230326T010000
END:DAYLIGHT
BEGIN:STANDARD
TZOFFSETFROM:+0200
TZOFFSETTO:+0100
TZNAME:CET
DTSTART:20231029T010000
END:STANDARD
BEGIN:DAYLIGHT
TZOFFSETFROM:+0100
TZOFFSETTO:+0200
TZNAME:CEST
DTSTART:20240331T010000
END:DAYLIGHT
BEGIN:STANDARD
TZOFFSETFROM:+0200
TZOFFSETTO:+0100
TZNAME:CET
DTSTART:20241027T010000
END:STANDARD
BEGIN:DAYLIGHT
TZOFFSETFROM:+0100
TZOFFSETTO:+0200
TZNAME:CEST
DTSTART:20250330T010000
END:DAYLIGHT
BEGIN:STANDARD
TZOFFSETFROM:+0200
TZOFFSETTO:+0100
TZNAME:CET
DTSTART:20251026T010000
END:STANDARD
BEGIN:DAYLIGHT
TZOFFSETFROM:+0100
TZOFFSETTO:+0200
TZNAME:CEST
DTSTART:20260329T010000
END:DAYLIGHT
BEGIN:STANDARD
TZOFFSETFROM:+0200
TZOFFSETTO:+0100
TZNAME:CET
DTSTART:20261025T010000
END:STANDARD
BEGIN:DAYLIGHT
TZOFFSETFROM:+0100
TZOFFSETTO:+0200
TZNAME:CEST
DTSTART:20270328T010000
END:DAYLIGHT
BEGIN:STANDARD
TZOFFSETFROM:+0200
TZOFFSETTO:+0100
TZNAME:CET
DTSTART:20271031T010000
END:STANDARD
END:VTIMEZONE
BEGIN:VEVENT
DTSTART;TZID=Europe/Bratislava:20260106T150000
DTEND;TZID=Europe/Bratislava:20260106T150000
DTSTAMP:20260423T210629
CREATED:20251221T095038Z
LAST-MODIFIED:20251221T095038Z
UID:8703-1767711600-1767711600@cervenik.fara.sk
SUMMARY:Trojkráľový Vianočný koncert
DESCRIPTION:Farnosť Červeník a \,\,Inakší svet“ vás srdečne pozývajú na Trojkráľový Vianočný koncert\n\n \n\nV utorok 6.1.2026 o 15h v našom kostolíku v Červeníku
URL:https://cervenik.fara.sk/event/trojkralovy-vianocny-koncert/
END:VEVENT
BEGIN:VEVENT
DTSTART;TZID=Europe/Bratislava:20251226T150000
DTEND;TZID=Europe/Bratislava:20251226T160000
DTSTAMP:20260423T210629
CREATED:20251221T093926Z
LAST-MODIFIED:20251221T093926Z
UID:8694-1766761200-1766764800@cervenik.fara.sk
SUMMARY:Keď hviezdy spievali nad Betlehemom
DESCRIPTION:Zvestujem vám veľkú radosť: Dnes sa vám v Dávidovom meste narodil spasiteľ\, Kristus Pán. \n26.12. 15:00\nKostol Narodenia Panny Márie\, Ratkovce\nOrgan: Zdenko Lekár \n28.12. 16:00\nKostol Obetovania Panny Márie\, Červeník\nOrgan: Zdenko Lekár a Martin Vavro
URL:https://cervenik.fara.sk/event/ked-hviezdy-spievali-nad-betlehemom/
END:VEVENT
BEGIN:VEVENT
DTSTART;TZID=Europe/Bratislava:20250720T000000
DTEND;TZID=Europe/Bratislava:20250727T000000
DTSTAMP:20260423T210629
CREATED:20250525T104151Z
LAST-MODIFIED:20250525T104151Z
UID:8472-1752969600-1753574400@cervenik.fara.sk
SUMMARY:Farský letný pobytový tábor 2025
DESCRIPTION:Planinka 20-26.7.2025 \nTéma: Vyrušený LÁSKOU \nViac informácii na plagáte alebo v Sakristii.
URL:https://cervenik.fara.sk/event/farsky-letny-pobytovy-tabor-2025/
END:VEVENT
BEGIN:VEVENT
DTSTART;TZID=Europe/Bratislava:20250118T070000
DTEND;TZID=Europe/Bratislava:20250118T153000
DTSTAMP:20260423T210629
CREATED:20250104T070952Z
LAST-MODIFIED:20250104T070952Z
UID:8236-1737183600-1737214200@cervenik.fara.sk
SUMMARY:Farský SKI bus na Kohútku
DESCRIPTION:
URL:https://cervenik.fara.sk/event/farsky-ski-bus-na-kohutku/
END:VEVENT
BEGIN:VEVENT
DTSTART;VALUE=DATE:20241231
DTEND;VALUE=DATE:20250101
DTSTAMP:20260423T210629
CREATED:20241215T104923Z
LAST-MODIFIED:20241215T104923Z
UID:8197-1735603200-1735689599@cervenik.fara.sk
SUMMARY:Tradičná silvestrovská farská akcia
DESCRIPTION:Pôjdeme ku starodávnemu kostolíku v Kostoľanoch pod Tríbečom a do nového kostolíka v NR- Klokočina.
URL:https://cervenik.fara.sk/event/tradicna-silvestrovska-farska-akcia/
END:VEVENT
BEGIN:VEVENT
DTSTART;TZID=Europe/Bratislava:20240721T060000
DTEND;TZID=Europe/Bratislava:20240727T170000
DTSTAMP:20260423T210629
CREATED:20240601T154120Z
LAST-MODIFIED:20240601T154120Z
UID:7851-1721541600-1722099600@cervenik.fara.sk
SUMMARY:Farský letný tábor
DESCRIPTION:
URL:https://cervenik.fara.sk/event/farsky-letny-tabor/
LOCATION:Farský letný tábor\, Liptovská osada
END:VEVENT
END:VCALENDAR